Workbook

Sheet Order
A1: Oligo Professionnel — Salon Order Form USA 2026
A2: Enter qty on brand tabs; totals calculate automatically. Yellow cells are editable inputs.
A4: Stylist Name
A5: Salon Name
A6: Order Date
A8: Brand / Sheet | B8: Subtotal
A9: CaluraTEN | B9: ='CaluraTEN'!F60
A10: Calura Permanent | B10: ='Calura Permanent'!F178
A11: Calura Gloss | B11: ='Calura Gloss'!F105
A12: Gloss Men | B12: ='Gloss Men'!F10
A13: Care & Styling | B13: ='Care & Styling'!E26
A14: Funkhue | B14: ='Funkhue'!E23
A15: Blacklight Pro | B15: ='Blacklight Pro'!E27
A16: Blacklight Retail | B16: ='Blacklight Retail'!E46
A17: Tools & Accessories | B17: ='Tools & Accessories'!E31
A18: GRAND TOTAL | B18: =SUM(B9:B17)
A20: Notes
A24: Tip: Click brand tabs above to enter quantities. This Order sheet updates automatically.

Sheet CaluraTEN
A1: CaluraTEN — ALL 2 oz $8.75 unless noted
A2: Default: 2 oz @ $8.75 unless noted | Enter Qty in yellow cells
A3: Category | B3: Shade | C3: Size | D3: Unit Price | E3: Qty | F3: Line Total
A4: NEUTRAL
A5: NEUTRAL | B5: 3 NEUTRAL | C5: 2 oz | D5: 8.75 | F5: =IF(E5="","",D5*E5)
A6: NEUTRAL | B6: 5 NEUTRAL | C6: 2 oz | D6: 8.75 | F6: =IF(E6="","",D6*E6)
A7: NEUTRAL | B7: 6 NEUTRAL | C7: 2 oz | D7: 8.75 | F7: =IF(E7="","",D7*E7)
A8: NEUTRAL | B8: 7 NEUTRAL | C8: 2 oz | D8: 8.75 | F8: =IF(E8="","",D8*E8)
A9: NEUTRAL | B9: 8 NEUTRAL | C9: 2 oz | D9: 8.75 | F9: =IF(E9="","",D9*E9)
A10: NEUTRAL | B10: 9 NEUTRAL | C10: 2 oz | D10: 8.75 | F10: =IF(E10="","",D10*E10)
A11: NEUTRAL | B11: 10 NEUTRAL | C11: 2 oz | D11: 8.75 | F11: =IF(E11="","",D11*E11)
A12: INTENSE NEUTRAL
A13: INTENSE NEUTRAL | B13: 3 INTENSE NEUTRAL | C13: 2 oz | D13: 8.75 | F13: =IF(E13="","",D13*E13)
A14: INTENSE NEUTRAL | B14: 5 INTENSE NEUTRAL | C14: 2 oz | D14: 8.75 | F14: =IF(E14="","",D14*E14)
A15: INTENSE NEUTRAL | B15: 6 INTENSE NEUTRAL | C15: 2 oz | D15: 8.75 | F15: =IF(E15="","",D15*E15)
A16: INTENSE NEUTRAL | B16: 7 INTENSE NEUTRAL | C16: 2 oz | D16: 8.75 | F16: =IF(E16="","",D16*E16)
A17: INTENSE NEUTRAL | B17: 8 INTENSE NEUTRAL | C17: 2 oz | D17: 8.75 | F17: =IF(E17="","",D17*E17)
A18: INTENSE NEUTRAL | B18: 9 INTENSE NEUTRAL | C18: 2 oz | D18: 8.75 | F18: =IF(E18="","",D18*E18)
A19: ASH
A20: ASH | B20: 5-1 / 5A | C20: 2 oz | D20: 8.75 | F20: =IF(E20="","",D20*E20)
A21: ASH | B21: 7-1 / 7A | C21: 2 oz | D21: 8.75 | F21: =IF(E21="","",D21*E21)
A22: ASH | B22: 9-1 / 9A | C22: 2 oz | D22: 8.75 | F22: =IF(E22="","",D22*E22)
A23: ASH | B23: 10-1 / 10A | C23: 2 oz | D23: 8.75 | F23: =IF(E23="","",D23*E23)
A24: INTENSE ASH
A25: INTENSE ASH | B25: 6-11 / 6AA | C25: 2 oz | D25: 8.75 | F25: =IF(E25="","",D25*E25)
A26: INTENSE ASH | B26: 8-11 / 8AA | C26: 2 oz | D26: 8.75 | F26: =IF(E26="","",D26*E26)
A27: IRIDESCENT
A28: IRIDESCENT | B28: 9-2 / 9I | C28: 2 oz | D28: 8.75 | F28: =IF(E28="","",D28*E28)
A29: ASH BROWN
A30: ASH BROWN | B30: 9-18 / 9AB | C30: 2 oz | D30: 8.75 | F30: =IF(E30="","",D30*E30)
A31: ASH BROWN | B31: 10-18 / 10AB | C31: 2 oz | D31: 8.75 | F31: =IF(E31="","",D31*E31)
A32: GOLD
A33: GOLD | B33: 5-3 / 5G | C33: 2 oz | D33: 8.75 | F33: =IF(E33="","",D33*E33)
A34: GOLD | B34: 7-3 / 7G | C34: 2 oz | D34: 8.75 | F34: =IF(E34="","",D34*E34)
A35: GOLD | B35: 9-3 / 9G | C35: 2 oz | D35: 8.75 | F35: =IF(E35="","",D35*E35)
A36: GOLD COPPER
A37: GOLD COPPER | B37: 8-34 / 8GK | C37: 2 oz | D37: 8.75 | F37: =IF(E37="","",D37*E37)
A38: GOLD COPPER | B38: 10-34 / 10GK | C38: 2 oz | D38: 8.75 | F38: =IF(E38="","",D38*E38)
A39: COOL BROWN
A40: COOL BROWN | B40: 4-318 / 4GAB | C40: 2 oz | D40: 8.75 | F40: =IF(E40="","",D40*E40)
A41: COOL BROWN | B41: 6-318 / 6GAB | C41: 2 oz | D41: 8.75 | F41: =IF(E41="","",D41*E41)
A42: COOL BROWN | B42: 8-318 / 8GAB | C42: 2 oz | D42: 8.75 | F42: =IF(E42="","",D42*E42)
A43: COOL BROWN | B43: 10-318 / 10GAB | C43: 2 oz | D43: 8.75 | F43: =IF(E43="","",D43*E43)
A44: COPPER
A45: COPPER | B45: 7-4 / 7K | C45: 2 oz | D45: 8.75 | F45: =IF(E45="","",D45*E45)
A46: INTENSE RED
A47: INTENSE RED | B47: 6-55 / 6RR | C47: 2 oz | D47: 8.75 | F47: =IF(E47="","",D47*E47)
A48: VIOLET
A49: VIOLET | B49: 5-6 / 5V | C49: 2 oz | D49: 8.75 | F49: =IF(E49="","",D49*E49)
A50: BROWN
A51: BROWN | B51: 4-8 / 4B | C51: 2 oz | D51: 8.75 | F51: =IF(E51="","",D51*E51)
A52: BROWN | B52: 6-8 / 6B | C52: 2 oz | D52: 8.75 | F52: =IF(E52="","",D52*E52)
A53: BROWN | B53: 8-8 / 8B | C53: 2 oz | D53: 8.75 | F53: =IF(E53="","",D53*E53)
A54: CLEAR
A55: CLEAR | B55: CLEAR | C55: 2 oz | D55: 8.75 | F55: =IF(E55="","",D55*E55)
A56: DEVELOPERS
A57: DEVELOPERS | B57: 20 VOL. | D57: 9.5 | F57: =IF(E57="","",D57*E57)
A58: DEVELOPERS | B58: 30 VOL. | D58: 9.5 | F58: =IF(E58="","",D58*E58)
A59: DEVELOPERS | B59: 40 VOL. | D59: 9.5 | F59: =IF(E59="","",D59*E59)
A60: SHEET TOTAL | F60: =SUM(F5:F59)

Sheet Calura Permanent
A1: Calura Permanent — ALL 2 oz $8.75 unless noted
A2: Default: 2 oz @ $8.75 unless noted | Enter Qty in yellow cells
A3: Category | B3: Shade | C3: Size | D3: Unit Price | E3: Qty | F3: Line Total
A4: NEUTRAL
A5: NEUTRAL | B5: 1 NEUTRAL | C5: 2 oz | D5: 8.75 | F5: =IF(E5="","",D5*E5)
A6: NEUTRAL | B6: 2 NEUTRAL | C6: 2 oz | D6: 8.75 | F6: =IF(E6="","",D6*E6)
A7: NEUTRAL | B7: 3 NEUTRAL | C7: 2 oz | D7: 8.75 | F7: =IF(E7="","",D7*E7)
A8: NEUTRAL | B8: 4 NEUTRAL | C8: 2 oz | D8: 8.75 | F8: =IF(E8="","",D8*E8)
A9: NEUTRAL | B9: 5 NEUTRAL | C9: 2 oz | D9: 8.75 | F9: =IF(E9="","",D9*E9)
A10: NEUTRAL | B10: 6 NEUTRAL | C10: 2 oz | D10: 8.75 | F10: =IF(E10="","",D10*E10)
A11: NEUTRAL | B11: 7 NEUTRAL | C11: 2 oz | D11: 8.75 | F11: =IF(E11="","",D11*E11)
A12: NEUTRAL | B12: 8 NEUTRAL | C12: 2 oz | D12: 8.75 | F12: =IF(E12="","",D12*E12)
A13: NEUTRAL | B13: 9 NEUTRAL | C13: 2 oz | D13: 8.75 | F13: =IF(E13="","",D13*E13)
A14: NEUTRAL | B14: 10 NEUTRAL | C14: 2 oz | D14: 8.75 | F14: =IF(E14="","",D14*E14)
A15: INTENSE NEUTRAL
A16: INTENSE NEUTRAL | B16: 3 INTENSE NEUTRAL | C16: 2 oz | D16: 8.75 | F16: =IF(E16="","",D16*E16)
A17: INTENSE NEUTRAL | B17: 4 INTENSE NEUTRAL | C17: 2 oz | D17: 8.75 | F17: =IF(E17="","",D17*E17)
A18: INTENSE NEUTRAL | B18: 5 INTENSE NEUTRAL | C18: 2 oz | D18: 8.75 | F18: =IF(E18="","",D18*E18)
A19: INTENSE NEUTRAL | B19: 6 INTENSE NEUTRAL | C19: 2 oz | D19: 8.75 | F19: =IF(E19="","",D19*E19)
A20: INTENSE NEUTRAL | B20: 7 INTENSE NEUTRAL | C20: 2 oz | D20: 8.75 | F20: =IF(E20="","",D20*E20)
A21: INTENSE NEUTRAL | B21: 8 INTENSE NEUTRAL | C21: 2 oz | D21: 8.75 | F21: =IF(E21="","",D21*E21)
A22: INTENSE NEUTRAL | B22: 9 INTENSE NEUTRAL | C22: 2 oz | D22: 8.75 | F22: =IF(E22="","",D22*E22)
A23: ASH
A24: ASH | B24: 1-1 / 1A | C24: 2 oz | D24: 8.75 | F24: =IF(E24="","",D24*E24)
A25: ASH | B25: 4-1 / 4A | C25: 2 oz | D25: 8.75 | F25: =IF(E25="","",D25*E25)
A26: ASH | B26: 5-1 / 5A | C26: 2 oz | D26: 8.75 | F26: =IF(E26="","",D26*E26)
A27: ASH | B27: 6-1 / 6A | C27: 2 oz | D27: 8.75 | F27: =IF(E27="","",D27*E27)
A28: ASH | B28: 7-1 / 7A | C28: 2 oz | D28: 8.75 | F28: =IF(E28="","",D28*E28)
A29: ASH | B29: 8-1 / 8A | C29: 2 oz | D29: 8.75 | F29: =IF(E29="","",D29*E29)
A30: ASH | B30: 9-1 / 9A | C30: 2 oz | D30: 8.75 | F30: =IF(E30="","",D30*E30)
A31: ASH | B31: 10-1 / 10A | C31: 2 oz | D31: 8.75 | F31: =IF(E31="","",D31*E31)
A32: INTENSE ASH
A33: INTENSE ASH | B33: 4-11 / 4AA | C33: 2 oz | D33: 8.75 | F33: =IF(E33="","",D33*E33)
A34: INTENSE ASH | B34: 5-11 / 5AA | C34: 2 oz | D34: 8.75 | F34: =IF(E34="","",D34*E34)
A35: INTENSE ASH | B35: 6-11 / 6AA | C35: 2 oz | D35: 8.75 | F35: =IF(E35="","",D35*E35)
A36: INTENSE ASH | B36: 7-11 / 7AA | C36: 2 oz | D36: 8.75 | F36: =IF(E36="","",D36*E36)
A37: INTENSE ASH | B37: 8-11 / 8AA | C37: 2 oz | D37: 8.75 | F37: =IF(E37="","",D37*E37)
A38: ASH BROWN
A39: ASH BROWN | B39: 3-18 / 3AB | C39: 2 oz | D39: 8.75 | F39: =IF(E39="","",D39*E39)
A40: ASH BROWN | B40: 5-18 / 5AB | C40: 2 oz | D40: 8.75 | F40: =IF(E40="","",D40*E40)
A41: ASH BROWN | B41: 6-18 / 6AB | C41: 2 oz | D41: 8.75 | F41: =IF(E41="","",D41*E41)
A42: ASH BROWN | B42: 7-18 / 7AB | C42: 2 oz | D42: 8.75 | F42: =IF(E42="","",D42*E42)
A43: ASH BROWN | B43: 8-18 / 8AB | C43: 2 oz | D43: 8.75 | F43: =IF(E43="","",D43*E43)
A44: MATTE
A45: MATTE | B45: 4-13 / AG | C45: 2 oz | D45: 8.75 | F45: =IF(E45="","",D45*E45)
A46: MATTE | B46: 5-13 / AG | C46: 2 oz | D46: 8.75 | F46: =IF(E46="","",D46*E46)
A47: MATTE | B47: 6-13 / AG | C47: 2 oz | D47: 8.75 | F47: =IF(E47="","",D47*E47)
A48: MATTE | B48: 7-13 / AG | C48: 2 oz | D48: 8.75 | F48: =IF(E48="","",D48*E48)
A49: MATTE | B49: 8-13 / AG | C49: 2 oz | D49: 8.75 | F49: =IF(E49="","",D49*E49)
A50: IRIDESCENT
A51: IRIDESCENT | B51: 7-2 / 7I | C51: 2 oz | D51: 8.75 | F51: =IF(E51="","",D51*E51)
A52: IRIDESCENT | B52: 8-2 / 8I | C52: 2 oz | D52: 8.75 | F52: =IF(E52="","",D52*E52)
A53: IRIDESCENT | B53: 9-2 / 9I | C53: 2 oz | D53: 8.75 | F53: =IF(E53="","",D53*E53)
A54: IRIDESCENT | B54: 10-2 / 10I | C54: 2 oz | D54: 8.75 | F54: =IF(E54="","",D54*E54)
A55: GOLD
A56: GOLD | B56: 5-3 / 5G | C56: 2 oz | D56: 8.75 | F56: =IF(E56="","",D56*E56)
A57: GOLD | B57: 6-3 / 6G | C57: 2 oz | D57: 8.75 | F57: =IF(E57="","",D57*E57)
A58: GOLD | B58: 7-3 / 7G | C58: 2 oz | D58: 8.75 | F58: =IF(E58="","",D58*E58)
A59: GOLD | B59: 8-3 / 8G | C59: 2 oz | D59: 8.75 | F59: =IF(E59="","",D59*E59)
A60: GOLD | B60: 9-3 / 9G | C60: 2 oz | D60: 8.75 | F60: =IF(E60="","",D60*E60)
A61: COOL BEIGE
A62: COOL BEIGE | B62: 3-31 / 3GA | C62: 2 oz | D62: 8.75 | F62: =IF(E62="","",D62*E62)
A63: COOL BEIGE | B63: 4-31 / 4GA | C63: 2 oz | D63: 8.75 | F63: =IF(E63="","",D63*E63)
A64: COOL BEIGE | B64: 5-31 / 5GA | C64: 2 oz | D64: 8.75 | F64: =IF(E64="","",D64*E64)
A65: COOL BEIGE | B65: 6-31 / 6GA | C65: 2 oz | D65: 8.75 | F65: =IF(E65="","",D65*E65)
A66: COOL BEIGE | B66: 7-31 / 7GA | C66: 2 oz | D66: 8.75 | F66: =IF(E66="","",D66*E66)
A67: COOL BEIGE | B67: 8-31 / 8GA | C67: 2 oz | D67: 8.75 | F67: =IF(E67="","",D67*E67)
A68: COOL BEIGE | B68: 9-31 / 9GA | C68: 2 oz | D68: 8.75 | F68: =IF(E68="","",D68*E68)
A69: COOL BEIGE | B69: 10-31 / 10GA | C69: 2 oz | D69: 8.75 | F69: =IF(E69="","",D69*E69)
A70: COOL BROWN
A71: COOL BROWN | B71: 4-318 / 4GAB | C71: 2 oz | D71: 8.75 | F71: =IF(E71="","",D71*E71)
A72: COOL BROWN | B72: 5-318 / 5GAB | C72: 2 oz | D72: 8.75 | F72: =IF(E72="","",D72*E72)
A73: COOL BROWN | B73: 6-318 / 6GAB | C73: 2 oz | D73: 8.75 | F73: =IF(E73="","",D73*E73)
A74: COOL BROWN | B74: 7-318 / 7GAB | C74: 2 oz | D74: 8.75 | F74: =IF(E74="","",D74*E74)
A75: COOL BROWN | B75: 8-318 / 8GAB | C75: 2 oz | D75: 8.75 | F75: =IF(E75="","",D75*E75)
A76: COOL BROWN | B76: 9-318 / 9GAB | C76: 2 oz | D76: 8.75 | F76: =IF(E76="","",D76*E76)
A77: BEIGE
A78: BEIGE | B78: 8-32 / 8GI | C78: 2 oz | D78: 8.75 | F78: =IF(E78="","",D78*E78)
A79: BEIGE | B79: 9-32 / 9GI | C79: 2 oz | D79: 8.75 | F79: =IF(E79="","",D79*E79)
A80: BEIGE | B80: 10-32 / 10GI | C80: 2 oz | D80: 8.75 | F80: =IF(E80="","",D80*E80)
A81: GOLD COPPER
A82: GOLD COPPER | B82: 5-34 / 5GK | C82: 2 oz | D82: 8.75 | F82: =IF(E82="","",D82*E82)
A83: GOLD COPPER | B83: 6-34 / 6GK | C83: 2 oz | D83: 8.75 | F83: =IF(E83="","",D83*E83)
A84: GOLD COPPER | B84: 7-34 / 7GK | C84: 2 oz | D84: 8.75 | F84: =IF(E84="","",D84*E84)
A85: GOLD COPPER | B85: 8-34 / 8GK | C85: 2 oz | D85: 8.75 | F85: =IF(E85="","",D85*E85)
A86: GOLD COPPER | B86: 9-34 / 9GK | C86: 2 oz | D86: 8.75 | F86: =IF(E86="","",D86*E86)
A87: GOLDEN BEIGE
A88: GOLDEN BEIGE | B88: 7-36 / 7GV | C88: 2 oz | D88: 8.75 | F88: =IF(E88="","",D88*E88)
A89: GOLDEN BEIGE | B89: 8-36 / 8GV | C89: 2 oz | D89: 8.75 | F89: =IF(E89="","",D89*E89)
A90: GOLDEN BEIGE | B90: 9-36 / 9GV | C90: 2 oz | D90: 8.75 | F90: =IF(E90="","",D90*E90)
A91: GOLDEN BEIGE | B91: 10-36 / 10GV | C91: 2 oz | D91: 8.75 | F91: =IF(E91="","",D91*E91)
A92: COPPER
A93: COPPER | B93: 5-4 / 5K | C93: 2 oz | D93: 8.75 | F93: =IF(E93="","",D93*E93)
A94: COPPER | B94: 6-4 / 6K | C94: 2 oz | D94: 8.75 | F94: =IF(E94="","",D94*E94)
A95: COPPER | B95: 7-4 / 7K | C95: 2 oz | D95: 8.75 | F95: =IF(E95="","",D95*E95)
A96: INTENSE COPPER
A97: INTENSE COPPER | B97: 5-44 / 5KK | C97: 2 oz | D97: 8.75 | F97: =IF(E97="","",D97*E97)
A98: INTENSE COPPER | B98: 6-44 / 6KK | C98: 2 oz | D98: 8.75 | F98: =IF(E98="","",D98*E98)
A99: INTENSE COPPER | B99: 7-44 / 7KK | C99: 2 oz | D99: 8.75 | F99: =IF(E99="","",D99*E99)
A100: COPPER RED
...

Sheet Calura Gloss
A1: Calura Gloss — ALL 2 oz $7.35 unless noted
A2: Default: 2 oz @ $7.35 unless noted | Enter Qty in yellow cells
A3: Category | B3: Shade | C3: Size | D3: Unit Price | E3: Qty | F3: Line Total
A4: NEUTRAL
A5: NEUTRAL | B5: 3 NEUTRAL | C5: 2 oz | D5: 7.35 | F5: =IF(E5="","",D5*E5)
A6: NEUTRAL | B6: 4 NEUTRAL | C6: 2 oz | D6: 7.35 | F6: =IF(E6="","",D6*E6)
A7: NEUTRAL | B7: 5 NEUTRAL | C7: 2 oz | D7: 7.35 | F7: =IF(E7="","",D7*E7)
A8: NEUTRAL | B8: 6 NEUTRAL | C8: 2 oz | D8: 7.35 | F8: =IF(E8="","",D8*E8)
A9: NEUTRAL | B9: 7 NEUTRAL | C9: 2 oz | D9: 7.35 | F9: =IF(E9="","",D9*E9)
A10: NEUTRAL | B10: 8 NEUTRAL | C10: 2 oz | D10: 7.35 | F10: =IF(E10="","",D10*E10)
A11: NEUTRAL | B11: 9 NEUTRAL | C11: 2 oz | D11: 7.35 | F11: =IF(E11="","",D11*E11)
A12: NEUTRAL | B12: 10 NEUTRAL | C12: 2 oz | D12: 7.35 | F12: =IF(E12="","",D12*E12)
A13: INTENSE NEUTRAL
A14: INTENSE NEUTRAL | B14: 3 INTENSE NEUTRAL | C14: 2 oz | D14: 7.35 | F14: =IF(E14="","",D14*E14)
A15: INTENSE NEUTRAL | B15: 4 INTENSE NEUTRAL | C15: 2 oz | D15: 7.35 | F15: =IF(E15="","",D15*E15)
A16: INTENSE NEUTRAL | B16: 5 INTENSE NEUTRAL | C16: 2 oz | D16: 7.35 | F16: =IF(E16="","",D16*E16)
A17: INTENSE NEUTRAL | B17: 6 INTENSE NEUTRAL | C17: 2 oz | D17: 7.35 | F17: =IF(E17="","",D17*E17)
A18: INTENSE NEUTRAL | B18: 7 INTENSE NEUTRAL | C18: 2 oz | D18: 7.35 | F18: =IF(E18="","",D18*E18)
A19: INTENSE NEUTRAL | B19: 8 INTENSE NEUTRAL | C19: 2 oz | D19: 7.35 | F19: =IF(E19="","",D19*E19)
A20: NEUTRAL BROWN
A21: NEUTRAL BROWN | B21: 3 NEUTRAL BROWN | C21: 2 oz | D21: 7.35 | F21: =IF(E21="","",D21*E21)
A22: NEUTRAL BROWN | B22: 4 NEUTRAL BROWN | C22: 2 oz | D22: 7.35 | F22: =IF(E22="","",D22*E22)
A23: NEUTRAL BROWN | B23: 5 NEUTRAL BROWN | C23: 2 oz | D23: 7.35 | F23: =IF(E23="","",D23*E23)
A24: NEUTRAL BROWN | B24: 6 NEUTRAL BROWN | C24: 2 oz | D24: 7.35 | F24: =IF(E24="","",D24*E24)
A25: NEUTRAL BROWN | B25: 7 NEUTRAL BROWN | C25: 2 oz | D25: 7.35 | F25: =IF(E25="","",D25*E25)
A26: NEUTRAL BROWN | B26: 8 NEUTRAL BROWN | C26: 2 oz | D26: 7.35 | F26: =IF(E26="","",D26*E26)
A27: NEUTRAL BROWN | B27: 9 NEUTRAL BROWN | C27: 2 oz | D27: 7.35 | F27: =IF(E27="","",D27*E27)
A28: NEUTRAL BROWN | B28: 10 NEUTRAL BROWN | C28: 2 oz | D28: 7.35 | F28: =IF(E28="","",D28*E28)
A29: ASH
A30: ASH | B30: 1-1 / 1A | C30: 2 oz | D30: 7.35 | F30: =IF(E30="","",D30*E30)
A31: ASH | B31: 6-1 / 6A | C31: 2 oz | D31: 7.35 | F31: =IF(E31="","",D31*E31)
A32: ASH | B32: 7-1 / 7A | C32: 2 oz | D32: 7.35 | F32: =IF(E32="","",D32*E32)
A33: ASH | B33: 8-1 / 8A | C33: 2 oz | D33: 7.35 | F33: =IF(E33="","",D33*E33)
A34: ASH | B34: 9-1 / 9A | C34: 2 oz | D34: 7.35 | F34: =IF(E34="","",D34*E34)
A35: INTENSE ASH
A36: INTENSE ASH | B36: 6-11 / 6AA | C36: 2 oz | D36: 7.35 | F36: =IF(E36="","",D36*E36)
A37: INTENSE ASH | B37: 7-11 / 7AA | C37: 2 oz | D37: 7.35 | F37: =IF(E37="","",D37*E37)
A38: INTENSE ASH | B38: 8-11 / 8AA | C38: 2 oz | D38: 7.35 | F38: =IF(E38="","",D38*E38)
A39: INTENSE ASH | B39: 9-11 / 9AA | C39: 2 oz | D39: 7.35 | F39: =IF(E39="","",D39*E39)
A40: PEARL
A41: PEARL | B41: 7-12 / 7AI | C41: 2 oz | D41: 7.35 | F41: =IF(E41="","",D41*E41)
A42: PEARL | B42: 8-12 / 8AI | C42: 2 oz | D42: 7.35 | F42: =IF(E42="","",D42*E42)
A43: PEARL | B43: 9-12 / 9AI | C43: 2 oz | D43: 7.35 | F43: =IF(E43="","",D43*E43)
A44: PEARL | B44: 10-12 / 10AI | C44: 2 oz | D44: 7.35 | F44: =IF(E44="","",D44*E44)
A45: MATTE
A46: MATTE | B46: 4-13 / AG | C46: 2 oz | D46: 7.35 | F46: =IF(E46="","",D46*E46)
A47: MATTE | B47: 5-13 / AG | C47: 2 oz | D47: 7.35 | F47: =IF(E47="","",D47*E47)
A48: MATTE | B48: 6-13 / AG | C48: 2 oz | D48: 7.35 | F48: =IF(E48="","",D48*E48)
A49: MATTE | B49: 7-13 / AG | C49: 2 oz | D49: 7.35 | F49: =IF(E49="","",D49*E49)
A50: MATTE | B50: 8-13 / AG | C50: 2 oz | D50: 7.35 | F50: =IF(E50="","",D50*E50)
A51: GOLD
A52: GOLD | B52: 3-3 / 3G | C52: 2 oz | D52: 7.35 | F52: =IF(E52="","",D52*E52)
A53: GOLD | B53: 5-3 / 5G | C53: 2 oz | D53: 7.35 | F53: =IF(E53="","",D53*E53)
A54: GOLD | B54: 7-3 / 7G | C54: 2 oz | D54: 7.35 | F54: =IF(E54="","",D54*E54)
A55: GOLD | B55: 9-3 / 9G | C55: 2 oz | D55: 7.35 | F55: =IF(E55="","",D55*E55)
A56: GOLD IRIDESCENT
A57: GOLD IRIDESCENT | B57: 6-32 / 6GI | C57: 2 oz | D57: 7.35 | F57: =IF(E57="","",D57*E57)
A58: GOLD IRIDESCENT | B58: 7-32 / 7GI | C58: 2 oz | D58: 7.35 | F58: =IF(E58="","",D58*E58)
A59: GOLD IRIDESCENT | B59: 8-32 / 8GI | C59: 2 oz | D59: 7.35 | F59: =IF(E59="","",D59*E59)
A60: GOLD IRIDESCENT | B60: 9-32 / 9GI | C60: 2 oz | D60: 7.35 | F60: =IF(E60="","",D60*E60)
A61: GOLD COPPER
A62: GOLD COPPER | B62: 4-34 / 4GK | C62: 2 oz | D62: 7.35 | F62: =IF(E62="","",D62*E62)
A63: GOLD COPPER | B63: 6-34 / 6GK | C63: 2 oz | D63: 7.35 | F63: =IF(E63="","",D63*E63)
A64: GOLD COPPER | B64: 8-34 / 8GK | C64: 2 oz | D64: 7.35 | F64: =IF(E64="","",D64*E64)
A65: BEIGE
A66: BEIGE | B66: 7-36 / 7GV | C66: 2 oz | D66: 7.35 | F66: =IF(E66="","",D66*E66)
A67: BEIGE | B67: 8-36 / 8GV | C67: 2 oz | D67: 7.35 | F67: =IF(E67="","",D67*E67)
A68: BEIGE | B68: 9-36 / 9GV | C68: 2 oz | D68: 7.35 | F68: =IF(E68="","",D68*E68)
A69: BEIGE | B69: 10-36 / 10GV | C69: 2 oz | D69: 7.35 | F69: =IF(E69="","",D69*E69)
A70: COPPER
A71: COPPER | B71: 5-4 / 5K | C71: 2 oz | D71: 7.35 | F71: =IF(E71="","",D71*E71)
A72: COPPER | B72: 7-4 / 7K | C72: 2 oz | D72: 7.35 | F72: =IF(E72="","",D72*E72)
A73: COPPER | B73: 8-4 / 8K | C73: 2 oz | D73: 7.35 | F73: =IF(E73="","",D73*E73)
A74: COPPER GOLD
A75: COPPER GOLD | B75: 6-43 / 6KG | C75: 2 oz | D75: 7.35 | F75: =IF(E75="","",D75*E75)
A76: COPPER GOLD | B76: 8-43 / 8KG | C76: 2 oz | D76: 7.35 | F76: =IF(E76="","",D76*E76)
A77: RED
A78: RED | B78: 3-5 / 3R | C78: 2 oz | D78: 7.35 | F78: =IF(E78="","",D78*E78)
A79: RED | B79: 6-5 / 6R | C79: 2 oz | D79: 7.35 | F79: =IF(E79="","",D79*E79)
A80: RED | B80: 7-5 / 7R | C80: 2 oz | D80: 7.35 | F80: =IF(E80="","",D80*E80)
A81: VIOLET
A82: VIOLET | B82: 3-6 / 3V | C82: 2 oz | D82: 7.35 | F82: =IF(E82="","",D82*E82)
A83: VIOLET | B83: 5-6 / 5V | C83: 2 oz | D83: 7.35 | F83: =IF(E83="","",D83*E83)
A84: VIOLET | B84: 7-6 / 7V | C84: 2 oz | D84: 7.35 | F84: =IF(E84="","",D84*E84)
A85: VIOLET | B85: 9-6 / 9V | C85: 2 oz | D85: 7.35 | F85: =IF(E85="","",D85*E85)
A86: VIOLET | B86: 10-6 / 10V | C86: 2 oz | D86: 7.35 | F86: =IF(E86="","",D86*E86)
A87: INTENSE VIOLET
A88: INTENSE VIOLET | B88: 7-66 / 7VV | C88: 2 oz | D88: 7.35 | F88: =IF(E88="","",D88*E88)
A89: INTENSE VIOLET | B89: 9-66 / 9VV | C89: 2 oz | D89: 7.35 | F89: =IF(E89="","",D89*E89)
A90: MIXERS
A91: MIXERS | B91: 0-11 / 0AA | C91: 2 oz | D91: 7.35 | F91: =IF(E91="","",D91*E91)
A92: MIXERS | B92: 0-13 / AG | C92: 2 oz | D92: 7.35 | F92: =IF(E92="","",D92*E92)
A93: MIXERS | B93: 0-16 / 0AV | C93: 2 oz | D93: 7.35 | F93: =IF(E93="","",D93*E93)
A94: MIXERS | B94: 0-33 / 0GG | C94: 2 oz | D94: 7.35 | F94: =IF(E94="","",D94*E94)
A95: MIXERS | B95: 0-44 / 0KK | C95: 2 oz | D95: 7.35 | F95: =IF(E95="","",D95*E95)
A96: MIXERS | B96: 0-55 / 0RR | C96: 2 oz | D96: 7.35 | F96: =IF(E96="","",D96*E96)
A97: MIXERS | B97: 0-66 / 0VV | C97: 2 oz | D97: 7.35 | F97: =IF(E97="","",D97*E97)
A98: CLEAR
A99: CLEAR | B99: CLEAR 2 OZ / 60 ML | C99: 2 oz | D99: 7.35 | F99: =IF(E99="","",D99*E99)
A100: CLEAR | B100: CLEAR 32 OZ / 1 L | C100: 32 oz | D100: 34 | F100: =IF(E100="","",D100*E100)
...

Sheet Gloss Men
A1: Gloss Men — ALL 2 oz $7.35 unless noted
A2: Default: 2 oz @ $7.35 unless noted | Enter Qty in yellow cells
A3: Category | B3: Shade | C3: Size | D3: Unit Price | E3: Qty | F3: Line Total
A4: SHADES
A5: SHADES | B5: LEVEL 3 | C5: 2 oz | D5: 7.35 | F5: =IF(E5="","",D5*E5)
A6: SHADES | B6: LEVEL 5 | C6: 2 oz | D6: 7.35 | F6: =IF(E6="","",D6*E6)
A7: SHADES | B7: LEVEL 7 | C7: 2 oz | D7: 7.35 | F7: =IF(E7="","",D7*E7)
A8: DEVELOPER
A9: DEVELOPER | B9: 20 VOLUME (6%) | D9: 9.5 | F9: =IF(E9="","",D9*E9)
A10: SHEET TOTAL | F10: =SUM(F5:F9)

Sheet Care & Styling
A1: Care & Styling
A2: Enter Qty in yellow cells | Line totals calculate automatically
A3: Product | B3: Size | C3: Unit Price | D3: Qty | E3: Line Total
A4: Moisture Balance Cleanser | B4: 8.5 oz | C4: 15 | E4: =IF(D4="","",C4*D4)
A5: Moisture Balance Cleanser | B5: 32 oz | C5: 38.75 | E5: =IF(D5="","",C5*D5)
A6: Moisture Balance Cleanser | B6: 2 oz | C6: 6.45 | E6: =IF(D6="","",C6*D6)
A7: Moisture Balance Conditioner | B7: 8.5 oz | C7: 16 | E7: =IF(D7="","",C7*D7)
A8: Moisture Balance Conditioner | B8: 32 oz | C8: 41.25 | E8: =IF(D8="","",C8*D8)
A9: Moisture Balance Conditioner | B9: 2 oz | C9: 6.45 | E9: =IF(D9="","",C9*D9)
A10: Colour Lock | B10: 32 oz | C10: 41 | E10: =IF(D10="","",C10*D10)
A11: Volume Powder | B11: 0.32 fl.oz | C11: 15 | E11: =IF(D11="","",C11*D11)
A12: Styling Crème | B12: 8.5 oz | C12: 18 | E12: =IF(D12="","",C12*D12)
A13: Styling Crème | B13: 2 oz | C13: 6.45 | E13: =IF(D13="","",C13*D13)
A14: Recovery Mask | B14: 5 fl.oz | C14: 18 | E14: =IF(D14="","",C14*D14)
A15: Recovery Mask | B15: 32 oz | C15: 89 | E15: =IF(D15="","",C15*D15)
... A25: Sculpting Paste | B25: 3.4 fl.oz | C25: 16.5 | E25: =IF(D25="","",C25*D25)
A26: SHEET TOTAL | E26: =SUM(E4:E25)

Sheet Funkhue
A1: Funkhue — ALL 3.4 fl.oz $9.35
A2: Enter Qty in yellow cells | Line totals calculate automatically
A3: Product | B3: Size | C3: Unit Price | D3: Qty | E3: Line Total
A4: Violet | B4: 3.4 fl.oz | C4: 9.35 | E4: =IF(D4="","",C4*D4)
A5: Pink | B5: 3.4 fl.oz | C5: 9.35 | E5: =IF(D5="","",C5*D5)
A6: Yellow | B6: 3.4 fl.oz | C6: 9.35 | E6: =IF(D6="","",C6*D6)
A7: Fuchsia | B7: 3.4 fl.oz | C7: 9.35 | E7: =IF(D7="","",C7*D7)
A8: Green | B8: 3.4 fl.oz | C8: 9.35 | E8: =IF(D8="","",C8*D8)
A9: Blue | B9: 3.4 fl.oz | C9: 9.35 | E9: =IF(D9="","",C9*D9)
A10: Red | B10: 3.4 fl.oz | C10: 9.35 | E10: =IF(D10="","",C10*D10)
A11: Lilac | B11: 3.4 fl.oz | C11: 9.35 | E11: =IF(D11="","",C11*D11)
A12: Azure | B12: 3.4 fl.oz | C12: 9.35 | E12: =IF(D12="","",C12*D12)
A13: Bonbon | B13: 3.4 fl.oz | C13: 9.35 | E13: =IF(D13="","",C13*D13)
A14: Steel | B14: 3.4 fl.oz | C14: 9.35 | E14: =IF(D14="","",C14*D14)
A15: Black | B15: 3.4 fl.oz | C15: 9.35 | E15: =IF(D15="","",C15*D15)
... A22: Clear | B22: 3.4 fl.oz | C22: 9.35 | E22: =IF(D22="","",C22*D22)
A23: SHEET TOTAL | E23: =SUM(E4:E22)

Sheet Blacklight Pro
A1: Blacklight Pro
A2: Enter Qty in yellow cells | Line totals calculate automatically
A3: Product | B3: Size | C3: Unit Price | D3: Qty | E3: Line Total
A4: Smart Developer 5 vol | B4: 32 oz | C4: 12.95 | E4: =IF(D4="","",C4*D4)
A5: Smart Developer 10 vol | B5: 32 oz | C5: 12.95 | E5: =IF(D5="","",C5*D5)
A6: Smart Developer 20 vol | B6: 32 oz | C6: 12.95 | E6: =IF(D6="","",C6*D6)
A7: Smart Developer 30 vol | B7: 32 oz | C7: 12.95 | E7: =IF(D7="","",C7*D7)
A8: Smart Developer 40 vol | B8: 32 oz | C8: 12.95 | E8: =IF(D8="","",C8*D8)
A9: Extra Blonde | B9: 1.6 oz | C9: 3.95 | E9: =IF(D9="","",C9*D9)
A10: Extra Blonde | B10: 1 lb | C10: 24.95 | E10: =IF(D10="","",C10*D10)
A11: Extra Blonde | B11: 2 lb | C11: 46.95 | E11: =IF(D11="","",C11*D11)
A12: Cool Toned Blonde | B12: 1 lb | C12: 29.95 | E12: =IF(D12="","",C12*D12)
A13: Cool Toned Blonde | B13: 2 lb | C13: 55.95 | E13: =IF(D13="","",C13*D13)
A14: Balayage Clay Lightener | B14: 0.55 lb | C14: 30.95 | E14: =IF(D14="","",C14*D14)
A15: Cream Lightener | B15: 35 oz | C15: 47.95 | E15: =IF(D15="","",C15*D15)
... A26: NEU:VIO Conditioner Professionnel | B26: 32 oz | C26: 48 | E26: =IF(D26="","",C26*D26)
A27: SHEET TOTAL | E27: =SUM(E4:E26)

Sheet Blacklight Retail
A1: Blacklight Retail
A2: Enter Qty in yellow cells | Line totals calculate automatically
A3: Product | B3: Size | C3: Unit Price | D3: Qty | E3: Line Total
A4: HYD Shampoo | B4: 2 oz | C4: 7 | E4: =IF(D4="","",C4*D4)
A5: HYD Shampoo | B5: 10.1 oz | C5: 16 | E5: =IF(D5="","",C5*D5)
A6: HYD Shampoo | B6: 32 oz | C6: 40 | E6: =IF(D6="","",C6*D6)
A7: HYD Conditioner | B7: 2 oz | C7: 7 | E7: =IF(D7="","",C7*D7)
A8: HYD Conditioner | B8: 6.8 oz | C8: 16 | E8: =IF(D8="","",C8*D8)
A9: HYD Conditioner | B9: 32 oz | C9: 44 | E9: =IF(D9="","",C9*D9)
A10: HYD 18 in 1 | B10: 2 oz | C10: 7 | E10: =IF(D10="","",C10*D10)
A11: HYD 18 in 1 | B11: 7.6 oz | C11: 17 | E11: =IF(D11="","",C11*D11)
A12: HYD Mask | B12: 1.62 oz | C12: 8 | E12: =IF(D12="","",C12*D12)
A13: HYD Mask | B13: 6.8 oz | C13: 20 | E13: =IF(D13="","",C13*D13)
A14: HYD Mask | B14: 16.9 oz | C14: 35 | E14: =IF(D14="","",C14*D14)
A15: HYD Deep Hydration Mask | B15: 1.62 oz | C15: 8 | E15: =IF(D15="","",C15*D15)
... A45: NEU:VIO Neutralizing Spray | B45: 7.6 oz | C45: 17 | E45: =IF(D45="","",C45*D45)
A46: SHEET TOTAL | E46: =SUM(E4:E45)

Sheet Tools & Accessories
A1: Tools & Accessories — Waves / Support / Accessories
A2: Enter Qty in yellow cells | Line totals calculate automatically
A3: Product | B3: Size | C3: Unit Price | D3: Qty | E3: Line Total
A4: WAVES / TEXTURIZERS
A5: Alka | C5: 9.65 | E5: =IF(D5="","",C5*D5)
A6: Exo | C6: 9.65 | E6: =IF(D6="","",C6*D6)
A7: Tecno | C7: 9.65 | E7: =IF(D7="","",C7*D7)
A8: OH7 | C8: 9.65 | E8: =IF(D8="","",C8*D8)
A9: OH6 | C9: 9.65 | E9: =IF(D9="","",C9*D9)
A10: SUPPORT TOOLS
A11: Stain Remover | B11: 8 oz | C11: 9.8 | E11: =IF(D11="","",C11*D11)
A12: Stain Protector | B12: 8 oz | C12: 9.8 | E12: =IF(D12="","",C12*D12)
A13: Porosity Equalizer | B13: 8 oz | C13: 9.8 | E13: =IF(D13="","",C13*D13)
A14: Scalp Protector | B14: 5.3 oz | C14: 16.25 | E14: =IF(D14="","",C14*D14)
A15: Clarifying Shampoo | B15: 1 L | C15: 21.5 | E15: =IF(D15="","",C15*D15)
A16: ACCESSORIES
A17: Colour Brush | C17: 3.75 | E17: =IF(D17="","",C17*D17)
A18: Colour Bowl | C18: 4.75 | E18: =IF(D18="","",C18*D18)
A19: Applicator Bottle | C19: 5.75 | E19: =IF(D19="","",C19*D19)
A20: Digital Scale | C20: 37.5 | E20: =IF(D20="","",C20*D20)
A21: Apron | C21: 37.5 | E21: =IF(D21="","",C21*D21)
A22: Cape | C22: 37.5 | E22: =IF(D22="","",C22*D22)
A23: Kimono | C23: 37.5 | E23: =IF(D23="","",C23*D23)
A24: Foam Mirror | C24: 19 | E24: =IF(D24="","",C24*D24)
A25: Tube Squeezer | C25: 16 | E25: =IF(D25="","",C25*D25)
A26: Calura Gloss Display | C26: 29 | E26: =IF(D26="","",C26*D26)
A27: Calura Shade Selector | C27: 91 | E27: =IF(D27="","",C27*D27)
A28: CaluraTEN Shade Selector | C28: 65 | E28: =IF(D28="","",C28*D28)
... A30: Retail Bags (20) | C30: 23 | E30: =IF(D30="","",C30*D30)
A31: SHEET TOTAL | E31: =SUM(E5:E30)
