Workbook

Sheet Order
A1: Oligo Professionnel — Salon Order Form USA 2026
A2: Enter qty on brand tabs; totals calculate automatically. Yellow cells are editable inputs.
A4: Stylist Name
A5: Salon Name
A6: Order Date
A8: Brand / Sheet | B8: Subtotal
A9: CaluraTEN | B9: ='CaluraTEN'!F60
A10: Calura Permanent | B10: ='Calura Permanent'!F178
A11: Calura Gloss | B11: ='Calura Gloss'!F105
A12: Gloss Men | B12: ='Gloss Men'!F10
A13: Care & Styling | B13: ='Care & Styling'!E26
A14: Funkhue | B14: ='Funkhue'!E23
A15: Blacklight Pro | B15: ='Blacklight Pro'!E27
A16: Blacklight Retail | B16: ='Blacklight Retail'!E46
A17: Tools & Accessories | B17: ='Tools & Accessories'!E31
A18: GRAND TOTAL | B18: =SUM(B9:B17)
A20: Notes
A24: Tip: Click brand tabs above to enter quantities. This Order sheet updates automatically.

Sheet CaluraTEN
A1: CaluraTEN — ALL 2 oz $8.75 unless noted
A2: Default: 2 oz @ $8.75 unless noted | Enter Qty in yellow cells
A3: Category | B3: Shade | C3: Size | D3: Unit Price | E3: Qty | F3: Line Total
A4: NEUTRAL
A5: NEUTRAL | B5: 3 NEUTRAL | C5: 2 oz | D5: 8.75 | F5: =IF(E5="","",D5*E5)
A6: NEUTRAL | B6: 5 NEUTRAL | C6: 2 oz | D6: 8.75 | F6: =IF(E6="","",D6*E6)
A7: NEUTRAL | B7: 6 NEUTRAL | C7: 2 oz | D7: 8.75 | F7: =IF(E7="","",D7*E7)
A8: NEUTRAL | B8: 7 NEUTRAL | C8: 2 oz | D8: 8.75 | F8: =IF(E8="","",D8*E8)
A9: NEUTRAL | B9: 8 NEUTRAL | C9: 2 oz | D9: 8.75 | F9: =IF(E9="","",D9*E9)
A10: NEUTRAL | B10: 9 NEUTRAL | C10: 2 oz | D10: 8.75 | F10: =IF(E10="","",D10*E10)
A11: NEUTRAL | B11: 10 NEUTRAL | C11: 2 oz | D11: 8.75 | F11: =IF(E11="","",D11*E11)
A12: INTENSE NEUTRAL
A13: INTENSE NEUTRAL | B13: 3 INTENSE NEUTRAL | C13: 2 oz | D13: 8.75 | F13: =IF(E13="","",D13*E13)
A14: INTENSE NEUTRAL | B14: 5 INTENSE NEUTRAL | C14: 2 oz | D14: 8.75 | F14: =IF(E14="","",D14*E14)
A15: INTENSE NEUTRAL | B15: 6 INTENSE NEUTRAL | C15: 2 oz | D15: 8.75 | F15: =IF(E15="","",D15*E15)
A16: INTENSE NEUTRAL | B16: 7 INTENSE NEUTRAL | C16: 2 oz | D16: 8.75 | F16: =IF(E16="","",D16*E16)
A17: INTENSE NEUTRAL | B17: 8 INTENSE NEUTRAL | C17: 2 oz | D17: 8.75 | F17: =IF(E17="","",D17*E17)
A18: INTENSE NEUTRAL | B18: 9 INTENSE NEUTRAL | C18: 2 oz | D18: 8.75 | F18: =IF(E18="","",D18*E18)
A19: ASH
A20: ASH | B20: 5-1 / 5A | C20: 2 oz | D20: 8.75 | F20: =IF(E20="","",D20*E20)
A21: ASH | B21: 7-1 / 7A | C21: 2 oz | D21: 8.75 | F21: =IF(E21="","",D21*E21)
A22: ASH | B22: 9-1 / 9A | C22: 2 oz | D22: 8.75 | F22: =IF(E22="","",D22*E22)
A23: ASH | B23: 10-1 / 10A | C23: 2 oz | D23: 8.75 | F23: =IF(E23="","",D23*E23)
A24: INTENSE ASH
A25: INTENSE ASH | B25: 6-11 / 6AA | C25: 2 oz | D25: 8.75 | F25: =IF(E25="","",D25*E25)
A26: INTENSE ASH | B26: 8-11 / 8AA | C26: 2 oz | D26: 8.75 | F26: =IF(E26="","",D26*E26)
A27: IRIDESCENT
A28: IRIDESCENT | B28: 9-2 / 9I | C28: 2 oz | D28: 8.75 | F28: =IF(E28="","",D28*E28)
A29: ASH BROWN
A30: ASH BROWN | B30: 9-18 / 9AB | C30: 2 oz | D30: 8.75 | F30: =IF(E30="","",D30*E30)
A31: ASH BROWN | B31: 10-18 / 10AB | C31: 2 oz | D31: 8.75 | F31: =IF(E31="","",D31*E31)
A32: GOLD
A33: GOLD | B33: 5-3 / 5G | C33: 2 oz | D33: 8.75 | F33: =IF(E33="","",D33*E33)
A34: GOLD | B34: 7-3 / 7G | C34: 2 oz | D34: 8.75 | F34: =IF(E34="","",D34*E34)
A35: GOLD | B35: 9-3 / 9G | C35: 2 oz | D35: 8.75 | F35: =IF(E35="","",D35*E35)
A36: GOLD COPPER
A37: GOLD COPPER | B37: 8-34 / 8GK | C37: 2 oz | D37: 8.75 | F37: =IF(E37="","",D37*E37)
A38: GOLD COPPER | B38: 10-34 / 10GK | C38: 2 oz | D38: 8.75 | F38: =IF(E38="","",D38*E38)
A39: COOL BROWN
A40: COOL BROWN | B40: 4-318 / 4GAB | C40: 2 oz | D40: 8.75 | F40: =IF(E40="","",D40*E40)
...

Sheet Calura Permanent
A1: Calura Permanent — ALL 2 oz $8.75 unless noted
A2: Default: 2 oz @ $8.75 unless noted | Enter Qty in yellow cells
A3: Category | B3: Shade | C3: Size | D3: Unit Price | E3: Qty | F3: Line Total
A4: NEUTRAL
A5: NEUTRAL | B5: 1 NEUTRAL | C5: 2 oz | D5: 8.75 | F5: =IF(E5="","",D5*E5)
A6: NEUTRAL | B6: 2 NEUTRAL | C6: 2 oz | D6: 8.75 | F6: =IF(E6="","",D6*E6)
A7: NEUTRAL | B7: 3 NEUTRAL | C7: 2 oz | D7: 8.75 | F7: =IF(E7="","",D7*E7)
A8: NEUTRAL | B8: 4 NEUTRAL | C8: 2 oz | D8: 8.75 | F8: =IF(E8="","",D8*E8)
A9: NEUTRAL | B9: 5 NEUTRAL | C9: 2 oz | D9: 8.75 | F9: =IF(E9="","",D9*E9)
A10: NEUTRAL | B10: 6 NEUTRAL | C10: 2 oz | D10: 8.75 | F10: =IF(E10="","",D10*E10)
A11: NEUTRAL | B11: 7 NEUTRAL | C11: 2 oz | D11: 8.75 | F11: =IF(E11="","",D11*E11)
A12: NEUTRAL | B12: 8 NEUTRAL | C12: 2 oz | D12: 8.75 | F12: =IF(E12="","",D12*E12)
A13: NEUTRAL | B13: 9 NEUTRAL | C13: 2 oz | D13: 8.75 | F13: =IF(E13="","",D13*E13)
A14: NEUTRAL | B14: 10 NEUTRAL | C14: 2 oz | D14: 8.75 | F14: =IF(E14="","",D14*E14)
A15: INTENSE NEUTRAL
A16: INTENSE NEUTRAL | B16: 3 INTENSE NEUTRAL | C16: 2 oz | D16: 8.75 | F16: =IF(E16="","",D16*E16)
A17: INTENSE NEUTRAL | B17: 4 INTENSE NEUTRAL | C17: 2 oz | D17: 8.75 | F17: =IF(E17="","",D17*E17)
A18: INTENSE NEUTRAL | B18: 5 INTENSE NEUTRAL | C18: 2 oz | D18: 8.75 | F18: =IF(E18="","",D18*E18)
A19: INTENSE NEUTRAL | B19: 6 INTENSE NEUTRAL | C19: 2 oz | D19: 8.75 | F19: =IF(E19="","",D19*E19)
A20: INTENSE NEUTRAL | B20: 7 INTENSE NEUTRAL | C20: 2 oz | D20: 8.75 | F20: =IF(E20="","",D20*E20)
A21: INTENSE NEUTRAL | B21: 8 INTENSE NEUTRAL | C21: 2 oz | D21: 8.75 | F21: =IF(E21="","",D21*E21)
A22: INTENSE NEUTRAL | B22: 9 INTENSE NEUTRAL | C22: 2 oz | D22: 8.75 | F22: =IF(E22="","",D22*E22)
A23: ASH
A24: ASH | B24: 1-1 / 1A | C24: 2 oz | D24: 8.75 | F24: =IF(E24="","",D24*E24)
A25: ASH | B25: 4-1 / 4A | C25: 2 oz | D25: 8.75 | F25: =IF(E25="","",D25*E25)
A26: ASH | B26: 5-1 / 5A | C26: 2 oz | D26: 8.75 | F26: =IF(E26="","",D26*E26)
A27: ASH | B27: 6-1 / 6A | C27: 2 oz | D27: 8.75 | F27: =IF(E27="","",D27*E27)
A28: ASH | B28: 7-1 / 7A | C28: 2 oz | D28: 8.75 | F28: =IF(E28="","",D28*E28)
A29: ASH | B29: 8-1 / 8A | C29: 2 oz | D29: 8.75 | F29: =IF(E29="","",D29*E29)
A30: ASH | B30: 9-1 / 9A | C30: 2 oz | D30: 8.75 | F30: =IF(E30="","",D30*E30)
A31: ASH | B31: 10-1 / 10A | C31: 2 oz | D31: 8.75 | F31: =IF(E31="","",D31*E31)
A32: INTENSE ASH
A33: INTENSE ASH | B33: 4-11 / 4AA | C33: 2 oz | D33: 8.75 | F33: =IF(E33="","",D33*E33)
A34: INTENSE ASH | B34: 5-11 / 5AA | C34: 2 oz | D34: 8.75 | F34: =IF(E34="","",D34*E34)
A35: INTENSE ASH | B35: 6-11 / 6AA | C35: 2 oz | D35: 8.75 | F35: =IF(E35="","",D35*E35)
A36: INTENSE ASH | B36: 7-11 / 7AA | C36: 2 oz | D36: 8.75 | F36: =IF(E36="","",D36*E36)
A37: INTENSE ASH | B37: 8-11 / 8AA | C37: 2 oz | D37: 8.75 | F37: =IF(E37="","",D37*E37)
A38: ASH BROWN
A39: ASH BROWN | B39: 3-18 / 3AB | C39: 2 oz | D39: 8.75 | F39: =IF(E39="","",D39*E39)
A40: ASH BROWN | B40: 5-18 / 5AB | C40: 2 oz | D40: 8.75 | F40: =IF(E40="","",D40*E40)
...

Sheet Calura Gloss
A1: Calura Gloss — ALL 2 oz $7.35 unless noted
A2: Default: 2 oz @ $7.35 unless noted | Enter Qty in yellow cells
A3: Category | B3: Shade | C3: Size | D3: Unit Price | E3: Qty | F3: Line Total
A4: NEUTRAL
A5: NEUTRAL | B5: 3 NEUTRAL | C5: 2 oz | D5: 7.35 | F5: =IF(E5="","",D5*E5)
A6: NEUTRAL | B6: 4 NEUTRAL | C6: 2 oz | D6: 7.35 | F6: =IF(E6="","",D6*E6)
A7: NEUTRAL | B7: 5 NEUTRAL | C7: 2 oz | D7: 7.35 | F7: =IF(E7="","",D7*E7)
A8: NEUTRAL | B8: 6 NEUTRAL | C8: 2 oz | D8: 7.35 | F8: =IF(E8="","",D8*E8)
A9: NEUTRAL | B9: 7 NEUTRAL | C9: 2 oz | D9: 7.35 | F9: =IF(E9="","",D9*E9)
A10: NEUTRAL | B10: 8 NEUTRAL | C10: 2 oz | D10: 7.35 | F10: =IF(E10="","",D10*E10)
A11: NEUTRAL | B11: 9 NEUTRAL | C11: 2 oz | D11: 7.35 | F11: =IF(E11="","",D11*E11)
A12: NEUTRAL | B12: 10 NEUTRAL | C12: 2 oz | D12: 7.35 | F12: =IF(E12="","",D12*E12)
A13: INTENSE NEUTRAL
A14: INTENSE NEUTRAL | B14: 3 INTENSE NEUTRAL | C14: 2 oz | D14: 7.35 | F14: =IF(E14="","",D14*E14)
A15: INTENSE NEUTRAL | B15: 4 INTENSE NEUTRAL | C15: 2 oz | D15: 7.35 | F15: =IF(E15="","",D15*E15)
A16: INTENSE NEUTRAL | B16: 5 INTENSE NEUTRAL | C16: 2 oz | D16: 7.35 | F16: =IF(E16="","",D16*E16)
A17: INTENSE NEUTRAL | B17: 6 INTENSE NEUTRAL | C17: 2 oz | D17: 7.35 | F17: =IF(E17="","",D17*E17)
A18: INTENSE NEUTRAL | B18: 7 INTENSE NEUTRAL | C18: 2 oz | D18: 7.35 | F18: =IF(E18="","",D18*E18)
A19: INTENSE NEUTRAL | B19: 8 INTENSE NEUTRAL | C19: 2 oz | D19: 7.35 | F19: =IF(E19="","",D19*E19)
A20: NEUTRAL BROWN
A21: NEUTRAL BROWN | B21: 3 NEUTRAL BROWN | C21: 2 oz | D21: 7.35 | F21: =IF(E21="","",D21*E21)
A22: NEUTRAL BROWN | B22: 4 NEUTRAL BROWN | C22: 2 oz | D22: 7.35 | F22: =IF(E22="","",D22*E22)
A23: NEUTRAL BROWN | B23: 5 NEUTRAL BROWN | C23: 2 oz | D23: 7.35 | F23: =IF(E23="","",D23*E23)
A24: NEUTRAL BROWN | B24: 6 NEUTRAL BROWN | C24: 2 oz | D24: 7.35 | F24: =IF(E24="","",D24*E24)
A25: NEUTRAL BROWN | B25: 7 NEUTRAL BROWN | C25: 2 oz | D25: 7.35 | F25: =IF(E25="","",D25*E25)
A26: NEUTRAL BROWN | B26: 8 NEUTRAL BROWN | C26: 2 oz | D26: 7.35 | F26: =IF(E26="","",D26*E26)
A27: NEUTRAL BROWN | B27: 9 NEUTRAL BROWN | C27: 2 oz | D27: 7.35 | F27: =IF(E27="","",D27*E27)
A28: NEUTRAL BROWN | B28: 10 NEUTRAL BROWN | C28: 2 oz | D28: 7.35 | F28: =IF(E28="","",D28*E28)
A29: ASH
A30: ASH | B30: 1-1 / 1A | C30: 2 oz | D30: 7.35 | F30: =IF(E30="","",D30*E30)
A31: ASH | B31: 6-1 / 6A | C31: 2 oz | D31: 7.35 | F31: =IF(E31="","",D31*E31)
A32: ASH | B32: 7-1 / 7A | C32: 2 oz | D32: 7.35 | F32: =IF(E32="","",D32*E32)
A33: ASH | B33: 8-1 / 8A | C33: 2 oz | D33: 7.35 | F33: =IF(E33="","",D33*E33)
A34: ASH | B34: 9-1 / 9A | C34: 2 oz | D34: 7.35 | F34: =IF(E34="","",D34*E34)
A35: INTENSE ASH
A36: INTENSE ASH | B36: 6-11 / 6AA | C36: 2 oz | D36: 7.35 | F36: =IF(E36="","",D36*E36)
A37: INTENSE ASH | B37: 7-11 / 7AA | C37: 2 oz | D37: 7.35 | F37: =IF(E37="","",D37*E37)
A38: INTENSE ASH | B38: 8-11 / 8AA | C38: 2 oz | D38: 7.35 | F38: =IF(E38="","",D38*E38)
A39: INTENSE ASH | B39: 9-11 / 9AA | C39: 2 oz | D39: 7.35 | F39: =IF(E39="","",D39*E39)
A40: PEARL
...

Sheet Gloss Men
A1: Gloss Men — ALL 2 oz $7.35 unless noted
A2: Default: 2 oz @ $7.35 unless noted | Enter Qty in yellow cells
A3: Category | B3: Shade | C3: Size | D3: Unit Price | E3: Qty | F3: Line Total
A4: SHADES
A5: SHADES | B5: LEVEL 3 | C5: 2 oz | D5: 7.35 | F5: =IF(E5="","",D5*E5)
A6: SHADES | B6: LEVEL 5 | C6: 2 oz | D6: 7.35 | F6: =IF(E6="","",D6*E6)
A7: SHADES | B7: LEVEL 7 | C7: 2 oz | D7: 7.35 | F7: =IF(E7="","",D7*E7)
A8: DEVELOPER
A9: DEVELOPER | B9: 20 VOLUME (6%) | D9: 9.5 | F9: =IF(E9="","",D9*E9)
A10: SHEET TOTAL | F10: =SUM(F5:F9)

Sheet Care & Styling
A1: Care & Styling
A2: Enter Qty in yellow cells | Line totals calculate automatically
A3: Product | B3: Size | C3: Unit Price | D3: Qty | E3: Line Total
A4: Moisture Balance Cleanser | B4: 8.5 oz | C4: 15 | E4: =IF(D4="","",C4*D4)
A5: Moisture Balance Cleanser | B5: 32 oz | C5: 38.75 | E5: =IF(D5="","",C5*D5)
A6: Moisture Balance Cleanser | B6: 2 oz | C6: 6.45 | E6: =IF(D6="","",C6*D6)
A7: Moisture Balance Conditioner | B7: 8.5 oz | C7: 16 | E7: =IF(D7="","",C7*D7)
A8: Moisture Balance Conditioner | B8: 32 oz | C8: 41.25 | E8: =IF(D8="","",C8*D8)
A9: Moisture Balance Conditioner | B9: 2 oz | C9: 6.45 | E9: =IF(D9="","",C9*D9)
A10: Colour Lock | B10: 32 oz | C10: 41 | E10: =IF(D10="","",C10*D10)
A11: Volume Powder | B11: 0.32 fl.oz | C11: 15 | E11: =IF(D11="","",C11*D11)
A12: Styling Crème | B12: 8.5 oz | C12: 18 | E12: =IF(D12="","",C12*D12)
A13: Styling Crème | B13: 2 oz | C13: 6.45 | E13: =IF(D13="","",C13*D13)
A14: Recovery Mask | B14: 5 fl.oz | C14: 18 | E14: =IF(D14="","",C14*D14)
A15: Recovery Mask | B15: 32 oz | C15: 89 | E15: =IF(D15="","",C15*D15)
... A25: Sculpting Paste | B25: 3.4 fl.oz | C25: 16.5 | E25: =IF(D25="","",C25*D25)
A26: SHEET TOTAL | E26: =SUM(E4:E25)

Sheet Funkhue
A1: Funkhue — ALL 3.4 fl.oz $9.35
A2: Enter Qty in yellow cells | Line totals calculate automatically
A3: Product | B3: Size | C3: Unit Price | D3: Qty | E3: Line Total
A4: Violet | B4: 3.4 fl.oz | C4: 9.35 | E4: =IF(D4="","",C4*D4)
A5: Pink | B5: 3.4 fl.oz | C5: 9.35 | E5: =IF(D5="","",C5*D5)
A6: Yellow | B6: 3.4 fl.oz | C6: 9.35 | E6: =IF(D6="","",C6*D6)
A7: Fuchsia | B7: 3.4 fl.oz | C7: 9.35 | E7: =IF(D7="","",C7*D7)
A8: Green | B8: 3.4 fl.oz | C8: 9.35 | E8: =IF(D8="","",C8*D8)
A9: Blue | B9: 3.4 fl.oz | C9: 9.35 | E9: =IF(D9="","",C9*D9)
A10: Red | B10: 3.4 fl.oz | C10: 9.35 | E10: =IF(D10="","",C10*D10)
A11: Lilac | B11: 3.4 fl.oz | C11: 9.35 | E11: =IF(D11="","",C11*D11)
A12: Azure | B12: 3.4 fl.oz | C12: 9.35 | E12: =IF(D12="","",C12*D12)
A13: Bonbon | B13: 3.4 fl.oz | C13: 9.35 | E13: =IF(D13="","",C13*D13)
A14: Steel | B14: 3.4 fl.oz | C14: 9.35 | E14: =IF(D14="","",C14*D14)
A15: Black | B15: 3.4 fl.oz | C15: 9.35 | E15: =IF(D15="","",C15*D15)
... A22: Clear | B22: 3.4 fl.oz | C22: 9.35 | E22: =IF(D22="","",C22*D22)
A23: SHEET TOTAL | E23: =SUM(E4:E22)

Sheet Blacklight Pro
A1: Blacklight Pro
A2: Enter Qty in yellow cells | Line totals calculate automatically
A3: Product | B3: Size | C3: Unit Price | D3: Qty | E3: Line Total
A4: Smart Developer 5 vol | B4: 32 oz | C4: 12.95 | E4: =IF(D4="","",C4*D4)
A5: Smart Developer 10 vol | B5: 32 oz | C5: 12.95 | E5: =IF(D5="","",C5*D5)
A6: Smart Developer 20 vol | B6: 32 oz | C6: 12.95 | E6: =IF(D6="","",C6*D6)
A7: Smart Developer 30 vol | B7: 32 oz | C7: 12.95 | E7: =IF(D7="","",C7*D7)
A8: Smart Developer 40 vol | B8: 32 oz | C8: 12.95 | E8: =IF(D8="","",C8*D8)
A9: Extra Blonde | B9: 1.6 oz | C9: 3.95 | E9: =IF(D9="","",C9*D9)
A10: Extra Blonde | B10: 1 lb | C10: 24.95 | E10: =IF(D10="","",C10*D10)
A11: Extra Blonde | B11: 2 lb | C11: 46.95 | E11: =IF(D11="","",C11*D11)
A12: Cool Toned Blonde | B12: 1 lb | C12: 29.95 | E12: =IF(D12="","",C12*D12)
A13: Cool Toned Blonde | B13: 2 lb | C13: 55.95 | E13: =IF(D13="","",C13*D13)
A14: Balayage Clay Lightener | B14: 0.55 lb | C14: 30.95 | E14: =IF(D14="","",C14*D14)
A15: Cream Lightener | B15: 35 oz | C15: 47.95 | E15: =IF(D15="","",C15*D15)
... A26: NEU:VIO Conditioner Professionnel | B26: 32 oz | C26: 48 | E26: =IF(D26="","",C26*D26)
A27: SHEET TOTAL | E27: =SUM(E4:E26)

Sheet Blacklight Retail
A1: Blacklight Retail
A2: Enter Qty in yellow cells | Line totals calculate automatically
A3: Product | B3: Size | C3: Unit Price | D3: Qty | E3: Line Total
A4: HYD Shampoo | B4: 2 oz | C4: 7 | E4: =IF(D4="","",C4*D4)
A5: HYD Shampoo | B5: 10.1 oz | C5: 16 | E5: =IF(D5="","",C5*D5)
A6: HYD Shampoo | B6: 32 oz | C6: 40 | E6: =IF(D6="","",C6*D6)
A7: HYD Conditioner | B7: 2 oz | C7: 7 | E7: =IF(D7="","",C7*D7)
A8: HYD Conditioner | B8: 6.8 oz | C8: 16 | E8: =IF(D8="","",C8*D8)
A9: HYD Conditioner | B9: 32 oz | C9: 44 | E9: =IF(D9="","",C9*D9)
A10: HYD 18 in 1 | B10: 2 oz | C10: 7 | E10: =IF(D10="","",C10*D10)
A11: HYD 18 in 1 | B11: 7.6 oz | C11: 17 | E11: =IF(D11="","",C11*D11)
A12: HYD Mask | B12: 1.62 oz | C12: 8 | E12: =IF(D12="","",C12*D12)
A13: HYD Mask | B13: 6.8 oz | C13: 20 | E13: =IF(D13="","",C13*D13)
A14: HYD Mask | B14: 16.9 oz | C14: 35 | E14: =IF(D14="","",C14*D14)
A15: HYD Deep Hydration Mask | B15: 1.62 oz | C15: 8 | E15: =IF(D15="","",C15*D15)
... A45: NEU:VIO Neutralizing Spray | B45: 7.6 oz | C45: 17 | E45: =IF(D45="","",C45*D45)
A46: SHEET TOTAL | E46: =SUM(E4:E45)

Sheet Tools & Accessories
A1: Tools & Accessories — Waves / Support / Accessories
A2: Enter Qty in yellow cells | Line totals calculate automatically
A3: Product | B3: Size | C3: Unit Price | D3: Qty | E3: Line Total
A4: WAVES / TEXTURIZERS
A5: Alka | C5: 9.65 | E5: =IF(D5="","",C5*D5)
A6: Exo | C6: 9.65 | E6: =IF(D6="","",C6*D6)
A7: Tecno | C7: 9.65 | E7: =IF(D7="","",C7*D7)
A8: OH7 | C8: 9.65 | E8: =IF(D8="","",C8*D8)
A9: OH6 | C9: 9.65 | E9: =IF(D9="","",C9*D9)
A10: SUPPORT TOOLS
A11: Stain Remover | B11: 8 oz | C11: 9.8 | E11: =IF(D11="","",C11*D11)
A12: Stain Protector | B12: 8 oz | C12: 9.8 | E12: =IF(D12="","",C12*D12)
A13: Porosity Equalizer | B13: 8 oz | C13: 9.8 | E13: =IF(D13="","",C13*D13)
A14: Scalp Protector | B14: 5.3 oz | C14: 16.25 | E14: =IF(D14="","",C14*D14)
A15: Clarifying Shampoo | B15: 1 L | C15: 21.5 | E15: =IF(D15="","",C15*D15)
A16: ACCESSORIES
A17: Colour Brush | C17: 3.75 | E17: =IF(D17="","",C17*D17)
A18: Colour Bowl | C18: 4.75 | E18: =IF(D18="","",C18*D18)
A19: Applicator Bottle | C19: 5.75 | E19: =IF(D19="","",C19*D19)
A20: Digital Scale | C20: 37.5 | E20: =IF(D20="","",C20*D20)
A21: Apron | C21: 37.5 | E21: =IF(D21="","",C21*D21)
A22: Cape | C22: 37.5 | E22: =IF(D22="","",C22*D22)
A23: Kimono | C23: 37.5 | E23: =IF(D23="","",C23*D23)
A24: Foam Mirror | C24: 19 | E24: =IF(D24="","",C24*D24)
A25: Tube Squeezer | C25: 16 | E25: =IF(D25="","",C25*D25)
A26: Calura Gloss Display | C26: 29 | E26: =IF(D26="","",C26*D26)
A27: Calura Shade Selector | C27: 91 | E27: =IF(D27="","",C27*D27)
A28: CaluraTEN Shade Selector | C28: 65 | E28: =IF(D28="","",C28*D28)
... A30: Retail Bags (20) | C30: 23 | E30: =IF(D30="","",C30*D30)
A31: SHEET TOTAL | E31: =SUM(E5:E30)
